BEGIN:VCALENDAR
VERSION:2.0
PRODID:-//wp-events-plugin.com//7.2.3.1//EN
TZID:Europe/Amsterdam
X-WR-TIMEZONE:Europe/Amsterdam
BEGIN:VEVENT
UID:21@cisv.nl
DTSTART;TZID=Europe/Amsterdam;VALUE=DATE:20181125
DTEND;TZID=Europe/Amsterdam;VALUE=DATE:20181126
DTSTAMP:20180917T115225Z
URL:https://cisv.nl/events/trainingsdag-deelnemers-winter-youth-meeting/
SUMMARY:Trainingsdag Deelnemers Winter Youth Meeting 12-15 jaar
DESCRIPTION:Trainingsdag voor Winter Youth Meeting Deelnemers
CATEGORIES:Winter Youth meeting
END:VEVENT
BEGIN:VTIMEZONE
TZID:Europe/Amsterdam
X-LIC-LOCATION:Europe/Amsterdam
BEGIN:STANDARD
DTSTART:20181028T020000
TZOFFSETFROM:+0200
TZOFFSETTO:+0100
TZNAME:CET
END:STANDARD
END:VTIMEZONE
END:VCALENDAR