BEGIN:VCALENDAR
VERSION:2.0
PRODID:-//wp-events-plugin.com//7.2.3.1//EN
TZID:Europe/Amsterdam
X-WR-TIMEZONE:Europe/Amsterdam
BEGIN:VEVENT
UID:36@cisv.nl
DTSTART;TZID=Europe/Amsterdam;VALUE=DATE:20180904
DTEND;TZID=Europe/Amsterdam;VALUE=DATE:20180905
DTSTAMP:20180917T115417Z
URL:https://cisv.nl/events/trainingsdag-deelnemers-winter-youth-meeting-16
 -18-jaar/
SUMMARY:Trainingsdag Deelnemers Winter Youth Meeting 16-18 jaar
DESCRIPTION:Met het kamp in aantocht worden de deelnemers tussen de 16 en 1
 8 jaar van de Winter Youth Meeting op 4 november geholpen met de laatste v
 oorbereidingen en training om er een geweldige tijd van te maken tijdens h
 et programma. Details over de trainingsdag zullen binnenkort door de Youth
  Meeting commissie gecommuniceerd worden.
CATEGORIES:Winter Youth meeting
END:VEVENT
BEGIN:VTIMEZONE
TZID:Europe/Amsterdam
X-LIC-LOCATION:Europe/Amsterdam
BEGIN:DAYLIGHT
DTSTART:20180325T030000
TZOFFSETFROM:+0100
TZOFFSETTO:+0200
TZNAME:CEST
END:DAYLIGHT
END:VTIMEZONE
END:VCALENDAR