BEGIN:VCALENDAR
VERSION:2.0
PRODID:-//wp-events-plugin.com//7.2.3.1//EN
TZID:Europe/Amsterdam
X-WR-TIMEZONE:Europe/Amsterdam
BEGIN:VEVENT
UID:89@cisv.nl
DTSTART;TZID=Europe/Amsterdam:20220917T100000
DTEND;TZID=Europe/Amsterdam:20220917T160000
DTSTAMP:20211024T154529Z
URL:https://cisv.nl/events/terugkomdag-seminar/
SUMMARY:Terugkomdag Seminar
DESCRIPTION:Na een fantastische zomer zijn we heel erg benieuwd naar jullie
  verhalen en feedback.
CATEGORIES:Seminar
END:VEVENT
BEGIN:VTIMEZONE
TZID:Europe/Amsterdam
X-LIC-LOCATION:Europe/Amsterdam
BEGIN:DAYLIGHT
DTSTART:20220327T030000
TZOFFSETFROM:+0100
TZOFFSETTO:+0200
TZNAME:CEST
END:DAYLIGHT
END:VTIMEZONE
END:VCALENDAR